BEGIN:VCALENDAR
VERSION:2.0
PRODID:-//hacksw/handcal//NONSGML v1.0//EN
BEGIN:VEVENT
DTSTAMP:20260613T220000Z
DTSTART:20260613T220000Z
DTEND:20260614T020000Z

SUMMARY:Glimmer Gala 2026
DESCRIPTION:Join us on Saturday, June 13th 2026 at the Rhode Island Convention Center for an unforgettable evening celebrating childhood cancer fighters and survivors. The Glimmer Gala features a powerful runway show, celebrity guests, live entertainment, and a Barbie Disco Party-inspired atmosphere.Don’t miss this magical night of hope, fashion, and inspiration!Early Bird tickets are on sale until 2/28!Click here for more information
END:VEVENT
END:VCALENDAR