BEGIN:VCALENDAR
VERSION:2.0
PRODID:-//hacksw/handcal//NONSGML v1.0//EN
BEGIN:VEVENT
DTSTAMP:20260515T230000Z
DTSTART:20260515T230000Z
DTEND:19700101T000000Z

SUMMARY:JUMP Dance Tour - Providence 2026
DESCRIPTION:JUMP Dance Tour - Providence 2026May 15th - 17th Early Registration Deadline: April 15th Payment Deadline: April 15thClick here for more information
END:VEVENT
END:VCALENDAR