BEGIN:VCALENDAR
VERSION:2.0
PRODID:-//hacksw/handcal//NONSGML v1.0//EN
BEGIN:VEVENT
DTSTAMP:20260425T230000Z
DTSTART:20260425T230000Z
DTEND:19700101T000000Z

SUMMARY:Maximum Northeast Nationals - Providence 2026
DESCRIPTION:The Northeast Nationals is where regional pride meets national prestige! With powerful production, athlete and fan engagement zones, top-tier prizes like rings, and banners, and our signature 0/100 format, this 2-day optional event is built to honor the journey teams take to get here. Coaches enjoy premium perks, and every detail is designed to deliver a world-class season finale for the Northeast. Novice teams perform on Saturday; all others celebrate success on Sunday.April 25-26, 2026Click here for more information
END:VEVENT
END:VCALENDAR