BEGIN:VCALENDAR
VERSION:2.0
PRODID:-//hacksw/handcal//NONSGML v1.0//EN
BEGIN:VEVENT
DTSTAMP:20260429T213000Z
DTSTART:20260429T213000Z
DTEND:20260429T233000Z

SUMMARY:NACAC National College Fair - Providence
DESCRIPTION:Your dream school is out there!  Let NACAC College Fairs help you find it! The National Association for College Admission Counseling (NACAC), founded in 1937, is an organization of more than 28,000 professionals from around the world dedicated to serving students as they make choices about pursuing postsecondary education. Click here for more information
END:VEVENT
END:VCALENDAR