BEGIN:VCALENDAR
VERSION:2.0
PRODID:-//hacksw/handcal//NONSGML v1.0//EN
BEGIN:VEVENT
DTSTAMP:20260607T140000Z
DTSTART:20260607T140000Z
DTEND:20260607T210000Z

SUMMARY:Rhode Island Anime Con 2026
DESCRIPTION:Rhode Island&#39;s premier event for all things anime! Join us June 7th & 8th for a massive celebration with cosplayers, vendors, artists, and guest appearences from your favorite anime movies & TV shows!Click here for more informationKeep an eye out on our socials for guest appearence announcements and more other updates!
END:VEVENT
END:VCALENDAR