BEGIN:VCALENDAR
VERSION:2.0
PRODID:-//hacksw/handcal//NONSGML v1.0//EN
BEGIN:VEVENT
DTSTAMP:20260503T170000Z
DTSTART:20260503T170000Z
DTEND:20260503T210000Z

SUMMARY:Rhode Island Bridal & Wedding Expo
DESCRIPTION:The Bridal & Wedding Expo connects engaged couples with a wonderful variety of trusted wedding professionals—from bridal gowns and venues to photography, music, catering, invitations, and honeymoon destinations—all in one place.FREE PASSES ARE AVAILABLE! Click &#39;Buy Tickets&#39; to register. Click here for Exhibitor Information/Registration See &#39;Related Links&#39; for more information
END:VEVENT
END:VCALENDAR