BEGIN:VCALENDAR
VERSION:2.0
PRODID:-//hacksw/handcal//NONSGML v1.0//EN
BEGIN:VEVENT
DTSTAMP:20261106T200000Z
DTSTART:20261106T200000Z
DTEND:20261107T020000Z

SUMMARY:Rhode Island Comic Con 2026
DESCRIPTION:Experience the biggest show in the smallest state! Rhode Island Comic Con continues its tradition of making childhood memories come alive with their 2026 annual show. Geek out with us for two action-packed days featuring a wide variety of vendors, cosplayers, artistis, celebrity appearences, and more! Click here for more information.Keep an eye out on our social media pages for celebrity guest announcements and other important updates!
END:VEVENT
END:VCALENDAR