BEGIN:VCALENDAR
VERSION:2.0
PRODID:-//hacksw/handcal//NONSGML v1.0//EN
BEGIN:VEVENT
DTSTAMP:20260507T090000Z
DTSTART:20260507T090000Z
DTEND:20260507T143000Z

SUMMARY:SALGBA 2026 National Conference
DESCRIPTION:SALGBA provides educational opportunities with sessions focused on topics specific to public sector employee benefits professionals. May 4, 2026 – May 7, 2026
END:VEVENT
END:VCALENDAR