BEGIN:VCALENDAR
VERSION:2.0
PRODID:-//hacksw/handcal//NONSGML v1.0//EN
BEGIN:VEVENT
DTSTAMP:20260502T150000Z
DTSTART:20260502T150000Z
DTEND:20260502T200000Z

SUMMARY:The National Franchise Show - New England 2026
DESCRIPTION:Come to New England’s Largest “Own Your Own Business” Event!Proven, money making businesses that are now expanding in New England are here to meet new potential owners. This is your only opportunity to meet with the hottest businesses face-to-face. Ask questions and get the information you need in a no-pressure environment. Be there, find the businesses that excite you, shake hands and say hello!Click here for more information
END:VEVENT
END:VCALENDAR